BEGIN:VCALENDAR
VERSION:2.0
PRODID:floktu.com
X-PUBLISHED-TTL:P1W
BEGIN:VEVENT
UID:FloktuEvent31954@floktu.com
DTSTART:20231021T030000Z
SEQUENCE:0
TRANSP:OPAQUE
DTEND:20231021T060000Z
LOCATION:Organic Feast Wholefoods Market\, 10-12 William Street\, East Mait
 land\, New South Wales
SUMMARY:#Menochat Maitland
DESCRIPTION:Visit https://menochatatmaitland.floktu.com for more informatio
 n.
DTSTAMP:20260425T081737Z
END:VEVENT
END:VCALENDAR